BEGIN:VCALENDAR
VERSION:2.0
PRODID:Events Booking
BEGIN:VEVENT
UID:69e88772c5bc6
SUMMARY:BEATOLOGY
DESCRIPTION:BEATOLOGY presso&nbsp\;Raw Flow alle&nbsp\;ore 16:00
 Per tutt
 o il giorno si alterneranno dj set\, open mic\, workshop di beatmaking fin
 o alle esibizioni serali sul Main Stage con tanti ospiti.&nbsp\;Lo spazio 
 esterno sarà allestito con pannelli e spray messi a disposizione per i wr
 iters e per le live performace artistiche.
LOCATION:Via Piave\, 86100 Campobasso CB
DTSTART:20240518T160000Z
DTSTAMP:20240510T181350Z
ORGANIZER;CN=Campobasso Eventi e Notizie:MAILTO:networkeventnews@gmail.com
GEO:41.567197;14.682157
X-APPLE-STRUCTURED-LOCATION;VALUE=URI;X-ADDRESS=Via Piave\, 86100 Campobass
 o CB;X-APPLE-RADIUS=72;X-TITLE=Raw Flow:41.567197;14.682157
END:VEVENT
END:VCALENDAR