BEGIN:VCALENDAR
VERSION:2.0
PRODID:Events Booking
BEGIN:VEVENT
UID:69e88699c33bb
SUMMARY:SubSonica Live
DESCRIPTION:SubSonica Live per il Festival dei Misteri all'Area Eventi Selv
 apiana a Campobasso il 2 giugno 2024
LOCATION:Area Eventi Selvapiana
DTSTART:20240602T210000Z
DTSTAMP:20240510T172700Z
ORGANIZER;CN=Campobasso Eventi e Notizie:MAILTO:networkeventnews@gmail.com
GEO:41.569038;14.631145
X-APPLE-STRUCTURED-LOCATION;VALUE=URI;X-ADDRESS=Area Eventi Selvapiana;X-AP
 PLE-RADIUS=72;X-TITLE=Area Eventi Selvapiana:41.569038;14.631145
END:VEVENT
END:VCALENDAR